BEGIN:VCALENDAR
METHOD:PUBLISH
PRODID:-//Weblication CMS
VERSION:2.0
BEGIN:VTIMEZONE
TZID:Europe/Berlin
X-LIC-LOCATION:Europe/Berlin
BEGIN:DAYLIGHT
TZOFFSETFROM:+0100
TZOFFSETTO:+0200
TZNAME:CEST
DTSTART:19700329T020000
RRULE:FREQ=YEARLY;BYMONTH=3;BYDAY=-1SU
END:DAYLIGHT
BEGIN:STANDARD
TZOFFSETFROM:+0200
TZOFFSETTO:+0100
TZNAME:CET
DTSTART:19701025T030000
RRULE:FREQ=YEARLY;BYMONTH=10;BYDAY=-1SU
END:STANDARD
END:VTIMEZONE
BEGIN:VEVENT
SUMMARY:Jahreskonzert
DTSTART;TZID=Europe/Berlin:20260319T190000
DTEND;TZID=Europe/Berlin:20260319T210000
DESCRIPTION:der Musikschule Ottobeuren 
LOCATION:Museum für zeitgenössische Kunst
UID:https://www.mzk-diku.de/de/veranstaltungen/termine/2026-03-19-Jahreskonzert.php?uid=3aac9a41574a22840c6365bc785e7929
URL:https://www.mzk-diku.de/de/veranstaltungen/termine/2026-03-19-Jahreskonzert.php
END:VEVENT
END:VCALENDAR